BEGIN:VCALENDAR
VERSION:2.0
PRODID:-//Bronx High School of Science Parents Association - ECPv6.15.20//NONSGML v1.0//EN
CALSCALE:GREGORIAN
METHOD:PUBLISH
X-ORIGINAL-URL:https://bxsciencepa.org
X-WR-CALDESC:Events for Bronx High School of Science Parents Association
REFRESH-INTERVAL;VALUE=DURATION:PT1H
X-Robots-Tag:noindex
X-PUBLISHED-TTL:PT1H
BEGIN:VTIMEZONE
TZID:America/New_York
BEGIN:DAYLIGHT
TZOFFSETFROM:-0500
TZOFFSETTO:-0400
TZNAME:EDT
DTSTART:20240310T070000
END:DAYLIGHT
BEGIN:STANDARD
TZOFFSETFROM:-0400
TZOFFSETTO:-0500
TZNAME:EST
DTSTART:20241103T060000
END:STANDARD
BEGIN:DAYLIGHT
TZOFFSETFROM:-0500
TZOFFSETTO:-0400
TZNAME:EDT
DTSTART:20250309T070000
END:DAYLIGHT
BEGIN:STANDARD
TZOFFSETFROM:-0400
TZOFFSETTO:-0500
TZNAME:EST
DTSTART:20251102T060000
END:STANDARD
BEGIN:DAYLIGHT
TZOFFSETFROM:-0500
TZOFFSETTO:-0400
TZNAME:EDT
DTSTART:20260308T070000
END:DAYLIGHT
BEGIN:STANDARD
TZOFFSETFROM:-0400
TZOFFSETTO:-0500
TZNAME:EST
DTSTART:20261101T060000
END:STANDARD
END:VTIMEZONE
BEGIN:VEVENT
DTSTART;TZID=America/New_York:20251112T180000
DTEND;TZID=America/New_York:20251112T200000
DTSTAMP:20260424T174854
CREATED:20251102T192610Z
LAST-MODIFIED:20251102T192616Z
UID:28991-1762970400-1762977600@bxsciencepa.org
SUMMARY:Virtual Parent Townhall
DESCRIPTION:Virtual Parent Townhall with Superintendent\, Marcel Deans.
URL:https://bxsciencepa.org/event/virtual-parent-townhall/
END:VEVENT
BEGIN:VEVENT
DTSTART;TZID=America/New_York:20251117T083000
DTEND;TZID=America/New_York:20251117T083000
DTSTAMP:20260424T174854
CREATED:20251027T025904Z
LAST-MODIFIED:20251029T145525Z
UID:28970-1763368200-1763368200@bxsciencepa.org
SUMMARY:Coffee with the Principal
DESCRIPTION:Principal Hoyle will be joined by Assistant Principal of Pupil Personnel Services\, Andrew Nasser\, to discuss accessing resources in our guidance department. We’ll hear directly from students about the services they have found helpful. There will also be information on our new Montefiore School Health Clinic delivered by Paul DeAngelo\, Director of Operations\, After the presentation\, there will be an opportunity to visit our Holocaust Museum. If you are able to attend\, please RSVP HERE. 
URL:https://bxsciencepa.org/event/28970/
END:VEVENT
BEGIN:VEVENT
DTSTART;TZID=America/New_York:20251120T190000
DTEND;TZID=America/New_York:20251120T190000
DTSTAMP:20260424T174854
CREATED:20250910T160249Z
LAST-MODIFIED:20251118T122600Z
UID:28822-1763665200-1763665200@bxsciencepa.org
SUMMARY:November PA Meeting - Virtual Only
DESCRIPTION:Learn about the danger of drugs & fentanyl from a special presentation delivered by the Office of Assistant District Attorney Christopher Edel. This meeting will be on Zoom and the link is available in the weekly Parent Newsletter.  \n\n\n\nView the Agenda  \n\n\n\nThe October PA minutes will be voted on during the November meeting and can be found HERE.
URL:https://bxsciencepa.org/event/november-pa-meeting-virtual-only/
END:VEVENT
END:VCALENDAR