BEGIN:VCALENDAR
VERSION:2.0
PRODID:-//Bronx High School of Science Parents Association - ECPv6.15.20//NONSGML v1.0//EN
CALSCALE:GREGORIAN
METHOD:PUBLISH
X-WR-CALNAME:Bronx High School of Science Parents Association
X-ORIGINAL-URL:https://bxsciencepa.org
X-WR-CALDESC:Events for Bronx High School of Science Parents Association
REFRESH-INTERVAL;VALUE=DURATION:PT1H
X-Robots-Tag:noindex
X-PUBLISHED-TTL:PT1H
BEGIN:VTIMEZONE
TZID:America/New_York
BEGIN:DAYLIGHT
TZOFFSETFROM:-0500
TZOFFSETTO:-0400
TZNAME:EDT
DTSTART:20230312T070000
END:DAYLIGHT
BEGIN:STANDARD
TZOFFSETFROM:-0400
TZOFFSETTO:-0500
TZNAME:EST
DTSTART:20231105T060000
END:STANDARD
BEGIN:DAYLIGHT
TZOFFSETFROM:-0500
TZOFFSETTO:-0400
TZNAME:EDT
DTSTART:20240310T070000
END:DAYLIGHT
BEGIN:STANDARD
TZOFFSETFROM:-0400
TZOFFSETTO:-0500
TZNAME:EST
DTSTART:20241103T060000
END:STANDARD
BEGIN:DAYLIGHT
TZOFFSETFROM:-0500
TZOFFSETTO:-0400
TZNAME:EDT
DTSTART:20250309T070000
END:DAYLIGHT
BEGIN:STANDARD
TZOFFSETFROM:-0400
TZOFFSETTO:-0500
TZNAME:EST
DTSTART:20251102T060000
END:STANDARD
BEGIN:DAYLIGHT
TZOFFSETFROM:-0500
TZOFFSETTO:-0400
TZNAME:EDT
DTSTART:20260308T070000
END:DAYLIGHT
BEGIN:STANDARD
TZOFFSETFROM:-0400
TZOFFSETTO:-0500
TZNAME:EST
DTSTART:20261101T060000
END:STANDARD
END:VTIMEZONE
BEGIN:VTIMEZONE
TZID:UTC
BEGIN:STANDARD
TZOFFSETFROM:+0000
TZOFFSETTO:+0000
TZNAME:UTC
DTSTART:20230101T000000
END:STANDARD
END:VTIMEZONE
BEGIN:VEVENT
DTSTART;TZID=America/New_York:20250520T083000
DTEND;TZID=America/New_York:20250520T093000
DTSTAMP:20260425T121149
CREATED:20250506T140852Z
LAST-MODIFIED:20250506T140855Z
UID:28600-1747729800-1747733400@bxsciencepa.org
SUMMARY:Coffee with the Principal
DESCRIPTION:Principal Hoyle will be joined by Assistant Principal Andrew Nasser to present the State of the School. After the presentation\, interested parents/guardians will have the opportunity to visit our school’s planetarium.  \n\n\n\nIf you are able to attend\, please RSVP HERE by Monday May 19th at 9:00 AM.  
URL:https://bxsciencepa.org/event/coffee-with-the-principal-3/
END:VEVENT
BEGIN:VEVENT
DTSTART;TZID=America/New_York:20250515T190000
DTEND;TZID=America/New_York:20250515T203000
DTSTAMP:20260425T121149
CREATED:20250122T032215Z
LAST-MODIFIED:20250506T143922Z
UID:28028-1747335600-1747341000@bxsciencepa.org
SUMMARY:May PA Meeting - Virtual only
DESCRIPTION:PA and SLT ElectionsAfter the election – hear how our school did this year during a State of the School Report.This is a REMOTE ONLY meeting and election. Registration is required.
URL:https://bxsciencepa.org/event/may-pa-meeting-virtual-only/
CATEGORIES:2024-2025 PA Meetings
END:VEVENT
BEGIN:VEVENT
DTSTART;TZID=America/New_York:20250502T190500
DTEND;TZID=America/New_York:20250502T220000
DTSTAMP:20260425T121149
CREATED:20250122T032858Z
LAST-MODIFIED:20250123T024154Z
UID:28036-1746212700-1746223200@bxsciencepa.org
SUMMARY:Night Out at Yankee Stadium
DESCRIPTION:Batter up! The Bx Science PA is pleased to announce that we will be hosting our 4th Annual Night Out at Yankee Stadium on Friday\, May 2\, at 7:05 PM. \n\n\n\nJoin BxSci families\, teachers\, staff\, and friends for a fun and relaxed evening while we cheer on the Yankees! Purchase discounted tickets HERE\, which includes a $15 voucher for food or beverages at the game. Tickets are limited\, so please get yours today! \n\n\n\nPlease note\, this is a community event\, not a fundraiser. Last year’s event was a major success\, and nearly 100 members of the BxSci Community attended – we expect an even greater turnout this year and have reserved a larger section at Yankee Stadium to accommodate attendees!
URL:https://bxsciencepa.org/event/night-out-at-yankee-stadium/
LOCATION:Yankee Stadium\, 1 E 161st St\, Bronx\, New York\, 10451\, United States
ATTACH;FMTTYPE=image/png:https://bxsciencepa.org/wp-content/uploads/2025/01/Yankees-Game.png
END:VEVENT
BEGIN:VEVENT
DTSTART;TZID=America/New_York:20250424T190000
DTEND;TZID=America/New_York:20250424T203000
DTSTAMP:20260425T121149
CREATED:20250122T032111Z
LAST-MODIFIED:20250401T154302Z
UID:28026-1745521200-1745526600@bxsciencepa.org
SUMMARY:April PA Meeting - In Person
DESCRIPTION:Teens and Mental HealthA panel of outside professionals will discuss how to help you and your child address concerns they may have this school year.In Person!
URL:https://bxsciencepa.org/event/april-pa-meeting-in-person/
CATEGORIES:2024-2025 PA Meetings
END:VEVENT
BEGIN:VEVENT
DTSTART;TZID=America/New_York:20250410T180000
DTEND;TZID=America/New_York:20250410T220000
DTSTAMP:20260425T121149
CREATED:20250122T032623Z
LAST-MODIFIED:20250123T021312Z
UID:28032-1744308000-1744322400@bxsciencepa.org
SUMMARY:Bronx Science Spring Gala
DESCRIPTION:Lights\, Camera Action!
URL:https://bxsciencepa.org/event/bronx-science-spring-gala/
LOCATION:1 E. 65th Street\, 1 East 65th St.\, New York\, NY\, 10065\, United States
ATTACH;FMTTYPE=image/png:https://bxsciencepa.org/wp-content/uploads/2025/01/logo-wTE.png
END:VEVENT
BEGIN:VEVENT
DTSTART;TZID=America/New_York:20250408T150000
DTEND;TZID=America/New_York:20250408T193000
DTSTAMP:20260425T121149
CREATED:20250324T180018Z
LAST-MODIFIED:20250324T180020Z
UID:28499-1744124400-1744140600@bxsciencepa.org
SUMMARY:National Honor Society Induction Ceremony
DESCRIPTION:We are excited to announce that our National Honor Society (NHS) is hosting NHS ceremony followed by a dinner at the Bronx High School of Science.
URL:https://bxsciencepa.org/event/national-honor-society-induction-ceremony/
END:VEVENT
BEGIN:VEVENT
DTSTART;TZID=America/New_York:20250325T170000
DTEND;TZID=America/New_York:20250325T193000
DTSTAMP:20260425T121149
CREATED:20250303T185857Z
LAST-MODIFIED:20250303T185858Z
UID:28427-1742922000-1742931000@bxsciencepa.org
SUMMARY:Accepted Students Open House
DESCRIPTION:The school will be buzzing with excitement from newly accepted students and their families\, along with our own BxSci students who work hard to prepare for these marquee events. We will need a lot of help selling merchandise\, serving food to our student volunteers and greeting and providing information to families\, so please save the date and sign up to volunteer here!
URL:https://bxsciencepa.org/event/accepted-students-open-house/
END:VEVENT
BEGIN:VEVENT
DTSTART;TZID=America/New_York:20250313T190000
DTEND;TZID=America/New_York:20250313T203000
DTSTAMP:20260425T121149
CREATED:20250122T031954Z
LAST-MODIFIED:20250401T154307Z
UID:28024-1741892400-1741897800@bxsciencepa.org
SUMMARY:March PA Meeting - In Person
DESCRIPTION:How to Have Difficult Conversations with TeensHear from a panel of experts – our students – regarding communicating with your teen. Moderated by Assistant Principal Andrew Nasser.In Person!
URL:https://bxsciencepa.org/event/march-pa-meeting-in-person/
CATEGORIES:2024-2025 PA Meetings
END:VEVENT
BEGIN:VEVENT
DTSTART;TZID=America/New_York:20250310T083000
DTEND;TZID=America/New_York:20250310T093000
DTSTAMP:20260425T121149
CREATED:20250303T185306Z
LAST-MODIFIED:20250303T185733Z
UID:28424-1741595400-1741599000@bxsciencepa.org
SUMMARY:Coffee with the Principal
DESCRIPTION:The next Coffee with the Principal is Monday\, March 10 at 8:30 AM. Principal Rachel Hoyle will discuss the summer opportunities available at Bronx Science and will be joined by a panel of students. If you are able to attend\, please RSVP by Friday\, March 7 at 9:00 AM HERE.
URL:https://bxsciencepa.org/event/coffee-with-the-principal-2/
END:VEVENT
BEGIN:VEVENT
DTSTART;TZID=America/New_York:20250213T190000
DTEND;TZID=America/New_York:20250213T203000
DTSTAMP:20260425T121149
CREATED:20250121T220958Z
LAST-MODIFIED:20250401T154311Z
UID:28017-1739473200-1739478600@bxsciencepa.org
SUMMARY:February PA Meeting - Virtual only
DESCRIPTION:Our next PA meeting will be held on Thursday\, February 13 at 7:00 PM VIRTUALLY (log on via this LINK). The PA meeting will feature two simultaneous presentations: \n\n\n\n●    Course Selection: Dr. Allison Davis and Mr. Andrew Nasser will reprise their course selection presentation presented earlier this year. This information will also be given to 9th and 10th graders in their advisory sessions. \n\n\n\n●    What I Wish I Knew Before My Kid Went to College: A panel of parents of alumni will share their insights\, moderated by former Bronx Science PA President and alum Cliff Stanton\, ’81. This presentation is for senior families and those who are already comfortable with the course registration process. It promises to be another engaging and heartfelt conversation and we encourage you to join our fabulous lineup of former BxSci parents for this special event! \n\n\n\nPlease click HERE for the agenda for the meeting. The minutes of the January 16\, 2025\, PA meeting can be found on the PA website and will be voted on at our February meeting. \n\n\n\nThis is a REMOTE ONLY meeting.
URL:https://bxsciencepa.org/event/february-2025-pa-meeting-virtual-only/
CATEGORIES:2024-2025 PA Meetings
ATTACH;FMTTYPE=image/jpeg:https://bxsciencepa.org/wp-content/uploads/2025/01/a-magnifying-glass-focusing-on-mathematical-equations-in-a-textbook-symbolizing-detailed-study.-4494641-scaled.jpg
END:VEVENT
BEGIN:VEVENT
DTSTART;TZID=America/New_York:20250212T190000
DTEND;TZID=America/New_York:20250212T203000
DTSTAMP:20260425T121149
CREATED:20250128T000516Z
LAST-MODIFIED:20250128T000518Z
UID:28297-1739386800-1739392200@bxsciencepa.org
SUMMARY:Winter College Night
DESCRIPTION:The Bronx High School of Science Winter College Night: Deans and Directors Panel\, will take place at Bronx Science\, on Wednesday\, February 12th\, from 7:00-8:30 pm.  \n\n\n\nDeans/Directors from University of Chicago\, the University of Michigan\, and Vanderbilt University will speak about the following and the role each plays in the admissions process: \n\n\n\n\nAcademic Rigor\n\n\n\nStandardized Testing\n\n\n\nEssays\n\n\n\nLetters of Recommendation\n\n\n\nAssessing the value of Extra-Curricular Activities\n\n\n\nEarly Decision/Early Action\n\n\n\nWith so many similar\, highly qualified applicants what makes an applicant stand out from the crowd?\n\n\n\n\nMany of you will have questions you would like to ask. Please email your questions to the College Office (collegeoffice@bxscience.edu) by 12pm on the day of the event. There will be plenty of time for Q&A.  \n\n\n\nSophomores\, juniors\, and their parents/guardians should not miss this opportunity! This event will not be recorded or live streamed. \n\n\n\nWe look forward to seeing you on February 12th!
URL:https://bxsciencepa.org/event/winter-college-night/
END:VEVENT
BEGIN:VEVENT
DTSTART;TZID=America/New_York:20250210T083000
DTEND;TZID=America/New_York:20250210T083000
DTSTAMP:20260425T121149
CREATED:20250204T020246Z
LAST-MODIFIED:20250204T020246Z
UID:28333-1739176200-1739176200@bxsciencepa.org
SUMMARY:Coffee with the Principal
DESCRIPTION:The next Coffee with the Principal is Monday\, February 10 at 8:30 AM. Principal Rachel Hoyle and Assistant Principal Dr. Allison Davis will discuss the Bronx Science Research Program and student opportunities for research at the Manne Institute. There will be a student panel and an opportunity to visit the Manne Institute. RSVP by Friday\, February 7 at 9:00 AM HERE.
URL:https://bxsciencepa.org/event/coffee-with-the-principal/
END:VEVENT
BEGIN:VEVENT
DTSTART;TZID=America/New_York:20241219T190000
DTEND;TZID=America/New_York:20241219T203000
DTSTAMP:20260425T121149
CREATED:20241024T022922Z
LAST-MODIFIED:20241024T023122Z
UID:26310-1734634800-1734640200@bxsciencepa.org
SUMMARY:Holiday Party PA Meeting - In Person
DESCRIPTION:A PA Meeting and Holiday Celebration!We will learn more about the Montefiore on-site mental health and medical program coming into the school.In Person! Please join us prior to the meeting to grab a bite\, and buy some holiday BxSci swag.
URL:https://bxsciencepa.org/event/holiday-party-pa-meeting/
LOCATION:Bronx High School of Science\, 75 Bronx Science Blvd.\, Bronx\, New York\, 10468\, United States
ATTACH;FMTTYPE=image/jpeg:https://bxsciencepa.org/wp-content/uploads/2024/10/close-up-of-christmas-decoration-hanging-on-tree-250177-scaled.jpg
END:VEVENT
BEGIN:VEVENT
DTSTART;TZID=UTC:20241203T180000
DTEND;TZID=UTC:20241203T203000
DTSTAMP:20260425T121149
CREATED:20210914T014411Z
LAST-MODIFIED:20241025T185847Z
UID:1059-1733248800-1733257800@bxsciencepa.org
SUMMARY:Comedy Night is Back!
DESCRIPTION:ATTENTION ALL Bronx Science parents\, guardians\, teachers\, staff\, admin and friends!! \n\n\n\nLIVE Comedy Night is BACK! Get ready for an evening filled with hilarity and good cheer! \n\n\n\nLocation: Gotham Comedy Club (208 W. 23rd Street) \n\n\n\nDate: Tuesday\, December 3\, 2024 \n\n\n\nTime: 6 PM – Doors Open7:00 PM – 8:30 PM – Comedy Show \n\n\n\nTickets: Available for purchase HERE! \n\n\n\nEarly Bird tickets (ends October 31): $53.49 (inclusive of tax and fees). There is a 2-beverage minimum per person*. \n\n\n\nGeneral Admission (Starting November 1): $68.49 (inclusive of tax and fees). There is a 2-beverage minimum per person*. \n\n\n\n*Beverage choice can be alcoholic or non-alcoholic. Light refreshments will be included\, and additional food is available for purchase. This is an adult-only event. \n\n\n\nQuestions? Please reach out to Chair Ashok Eastman at ashok.eastman@bxsciencepa.org.
URL:https://bxsciencepa.org/event/2024-comedy-night/
ATTACH;FMTTYPE=image/jpeg:https://bxsciencepa.org/wp-content/uploads/2024/10/people-at-theater-713149-scaled.jpg
END:VEVENT
BEGIN:VEVENT
DTSTART;TZID=UTC:20241121T190000
DTEND;TZID=UTC:20241121T203000
DTSTAMP:20260425T121149
CREATED:20211001T014724Z
LAST-MODIFIED:20241024T022543Z
UID:1249-1732215600-1732221000@bxsciencepa.org
SUMMARY:November PA Meeting - In Person
DESCRIPTION:ACT and SAT testsThe latest information about college admissions in a rapidly changing environment. Standardized Testing Information Session.
URL:https://bxsciencepa.org/event/2024-11-pa-meeting/
LOCATION:Bronx High School of Science\, 75 Bronx Science Blvd.\, Bronx\, New York\, 10468\, United States
ATTACH;FMTTYPE=image/jpeg:https://bxsciencepa.org/wp-content/uploads/2024/10/a-person-taking-an-exam-6684209-scaled.jpg
END:VEVENT
END:VCALENDAR