BEGIN:VCALENDAR
VERSION:2.0
PRODID:-//Bronx High School of Science Parents Association - ECPv6.15.20//NONSGML v1.0//EN
CALSCALE:GREGORIAN
METHOD:PUBLISH
X-ORIGINAL-URL:https://bxsciencepa.org
X-WR-CALDESC:Events for Bronx High School of Science Parents Association
REFRESH-INTERVAL;VALUE=DURATION:PT1H
X-Robots-Tag:noindex
X-PUBLISHED-TTL:PT1H
BEGIN:VTIMEZONE
TZID:America/New_York
BEGIN:DAYLIGHT
TZOFFSETFROM:-0500
TZOFFSETTO:-0400
TZNAME:EDT
DTSTART:20250309T070000
END:DAYLIGHT
BEGIN:STANDARD
TZOFFSETFROM:-0400
TZOFFSETTO:-0500
TZNAME:EST
DTSTART:20251102T060000
END:STANDARD
BEGIN:DAYLIGHT
TZOFFSETFROM:-0500
TZOFFSETTO:-0400
TZNAME:EDT
DTSTART:20260308T070000
END:DAYLIGHT
BEGIN:STANDARD
TZOFFSETFROM:-0400
TZOFFSETTO:-0500
TZNAME:EST
DTSTART:20261101T060000
END:STANDARD
BEGIN:DAYLIGHT
TZOFFSETFROM:-0500
TZOFFSETTO:-0400
TZNAME:EDT
DTSTART:20270314T070000
END:DAYLIGHT
BEGIN:STANDARD
TZOFFSETFROM:-0400
TZOFFSETTO:-0500
TZNAME:EST
DTSTART:20271107T060000
END:STANDARD
END:VTIMEZONE
BEGIN:VEVENT
DTSTART;TZID=America/New_York:20260121T190000
DTEND;TZID=America/New_York:20260121T190000
DTSTAMP:20260425T074928
CREATED:20250910T160655Z
LAST-MODIFIED:20251106T160154Z
UID:28828-1769022000-1769022000@bxsciencepa.org
SUMMARY:January PA Meeting - Virtual
DESCRIPTION:Course Selection and Research ProgramHear how to construct a 4-year course plan and find out more about the research program course track.
URL:https://bxsciencepa.org/event/january-pa-meeting-virtual/
END:VEVENT
BEGIN:VEVENT
DTSTART;TZID=America/New_York:20260129T083000
DTEND;TZID=America/New_York:20260129T093000
DTSTAMP:20260425T074928
CREATED:20251221T213414Z
LAST-MODIFIED:20251221T213416Z
UID:29237-1769675400-1769679000@bxsciencepa.org
SUMMARY:Coffee with Principal
DESCRIPTION:Coffee with Principal rm 114
URL:https://bxsciencepa.org/event/coffee-with-principal/
END:VEVENT
BEGIN:VEVENT
DTSTART;TZID=America/New_York:20260205T180000
DTEND;TZID=America/New_York:20260205T200000
DTSTAMP:20260425T074928
CREATED:20250910T160800Z
LAST-MODIFIED:20260202T182920Z
UID:28830-1770314400-1770321600@bxsciencepa.org
SUMMARY:February PA Meeting & Winter College Night - In Person
DESCRIPTION:Please join us in person for an incredible evening. We are honored to welcome Admissions Directors and Deans from Amherst College\, Barnard College\, and Case Western Reserve University\, who will share invaluable insights into the current admissions landscape. \n\n\n\nCome early at 6:00 PM for our final in-person merchandise sale of the season! You can find our draft minutes from the January meeting HERE. You can find our agenda for the February meeting HERE. \n\n\n\nVolunteers Needed: We can’t do this without you. Please SIGN UP HERE to help with the merchandise sale or hospitality. \n\n\n\n6:00 PM: Snacks & Final In-Person Merchandise Sale \n\n\n\n6:30 PM: PA Meeting \n\n\n\n7:00 PM: Dean and Directors Admissions Panel
URL:https://bxsciencepa.org/event/february-pa-meeting-in-person/
END:VEVENT
BEGIN:VEVENT
DTSTART;TZID=America/New_York:20260207T120000
DTEND;TZID=America/New_York:20260207T140000
DTSTAMP:20260425T074928
CREATED:20251118T135132Z
LAST-MODIFIED:20260111T220709Z
UID:29155-1770465600-1770472800@bxsciencepa.org
SUMMARY:Lunar New Year Celebration
DESCRIPTION:Join us for the inaugural lunar new year celebration! Come hungry\, come happy\, come ready to support Bronx Science!Support this special event by purchasing tickets\, sharing your talent\, or both! Parents and students of all backgrounds are welcome.Get your tickets: Here  Volunteer signup: Here
URL:https://bxsciencepa.org/event/lunar-new-year-celebration/
LOCATION:New Mulan Restaurant\, 136-17 39th Ave\, Flushing\, New York\, 11354\, United States
ATTACH;FMTTYPE=image/jpeg:https://bxsciencepa.org/wp-content/uploads/2025/11/2026_yearofthehorse.jpeg
END:VEVENT
BEGIN:VEVENT
DTSTART;TZID=America/New_York:20260209T083000
DTEND;TZID=America/New_York:20260209T083000
DTSTAMP:20260425T074928
CREATED:20260202T183045Z
LAST-MODIFIED:20260202T183048Z
UID:29305-1770625800-1770625800@bxsciencepa.org
SUMMARY:Coffee with the Principal
DESCRIPTION:Topic: Research Program\, Student Panel\, & Manne Institute Tour
URL:https://bxsciencepa.org/event/coffee-with-the-principal-5/
END:VEVENT
BEGIN:VEVENT
DTSTART;TZID=America/New_York:20260312T190000
DTEND;TZID=America/New_York:20260312T190000
DTSTAMP:20260425T074928
CREATED:20250910T160843Z
LAST-MODIFIED:20260308T222402Z
UID:28832-1773342000-1773342000@bxsciencepa.org
SUMMARY:March PA Meeting - In Person
DESCRIPTION:Compass Prep – College \n\n\n\nOur next PA meeting features a high-stakes presentation on Navigating College Admission Tests. Come early for a light dinner at 6:30 PM\, followed by the meeting at 7:00 PM. We will also be voting on the February 5th meeting minutes. View Meeting AgendaView Draft MinutesRSVP
URL:https://bxsciencepa.org/event/march-pa-meeting-in-person-2/
END:VEVENT
BEGIN:VEVENT
DTSTART;TZID=America/New_York:20260316T083000
DTEND;TZID=America/New_York:20260316T100000
DTSTAMP:20260425T074928
CREATED:20260224T022244Z
LAST-MODIFIED:20260308T225938Z
UID:29372-1773649800-1773655200@bxsciencepa.org
SUMMARY:Coffee with the Principal
DESCRIPTION:Join us Monday\, March 16 at 8:30 AM to learn about Bronx Science summer opportunities\, hear from students who have participated in past programs\, and stay after for a visit to the Holocaust Museum. RSVP by Friday 3/13 9am. \n\n\n\nWe hope to see you there!
URL:https://bxsciencepa.org/event/coffee-with-the-principal-6/
END:VEVENT
BEGIN:VEVENT
DTSTART;TZID=America/New_York:20260326T153000
DTEND;TZID=America/New_York:20260326T200000
DTSTAMP:20260425T074928
CREATED:20260302T151857Z
LAST-MODIFIED:20260308T224807Z
UID:29385-1774539000-1774555200@bxsciencepa.org
SUMMARY:Volunteer Opportunity - Accepted Students Open House
DESCRIPTION:Spring 2026 Accepted Students Open House\, Thursday March 26th\, 3:30-8:00 PM at the Bronx High School of Science. Note the actual orientation event runs from 5 – 7:30 PM. \n\n\n\nWe’ll need many parent and guardian volunteers to help welcome guests and answer questions prospective parents may have\, to help sell Bronx Science merchandise (it’s an eager crowd) and to feed our student volunteers. We need a LOT of volunteers to help with: \n\n\n\n\nMerchandise sales and transportation info\n\n\n\nAnswering general questions or specific transportation needs\n\n\n\nServing food to our hardworking student volunteers\n\n\n\n\nSign up to volunteer! \n\n\n\n \n\n\n\n \n\n\n\nSign up here
URL:https://bxsciencepa.org/event/volunteer-opportunity-accepted-students-open-house/
END:VEVENT
BEGIN:VEVENT
DTSTART;TZID=America/New_York:20260415T190000
DTEND;TZID=America/New_York:20260415T190000
DTSTAMP:20260425T074928
CREATED:20250910T161112Z
LAST-MODIFIED:20251117T193410Z
UID:28834-1776279600-1776279600@bxsciencepa.org
SUMMARY:April PA Meeting - In Person
DESCRIPTION:Parent Panel – College \n\n\n\nHear from a panel of parents about their childrens’ college experiences.
URL:https://bxsciencepa.org/event/april-pa-meeting-in-person-2/
END:VEVENT
BEGIN:VEVENT
DTSTART;TZID=America/New_York:20260421T000000
DTEND;TZID=America/New_York:20260421T235959
DTSTAMP:20260425T074928
CREATED:20260420T014601Z
LAST-MODIFIED:20260420T014741Z
UID:29424-1776729600-1776815999@bxsciencepa.org
SUMMARY:National Honor Society Induction Ceremony
DESCRIPTION:Sign up here to assist with hospitality and event support.
URL:https://bxsciencepa.org/event/national-honor-society-induction-ceremony-2/
END:VEVENT
BEGIN:VEVENT
DTSTART;TZID=America/New_York:20260423T180000
DTEND;TZID=America/New_York:20260423T180000
DTSTAMP:20260425T074928
CREATED:20251105T142048Z
LAST-MODIFIED:20260217T234408Z
UID:29005-1776967200-1776967200@bxsciencepa.org
SUMMARY:Spring Gala
DESCRIPTION:Join us!\n\n\n\nBronx Science Spring 2026 Benefit Bash \n\n\n\n6pm on 4.23.26 | 1 E. 65th St.\, NYC \n\n\n\n\nBuy Tickets\n\n\n\n\n\n\n\n\n\n\n \n\n\n\n\n\n\n\n \n\n\n\n\n\n\n\n\n\n\n\n\n\n\n\n\n\n\n\n\nTHANK YOU TO OUR SPONSORS!\n\n\n\nYou’re the Bees’ Knees!\n\n\n\n\n\n\n\n\n\n\n\n\n\n\n\n\n\n\n\n\n\n\n\n\n\n\n\n\n\n\n\n\n\n\n\n\n\n\n\n\n\n\n\n\n\n\nDonate to the Auction\n\n\n\nRight now\, we’re gathering donations for our auction\, and there are lots of easy\, creative ways to contribute. Read on!Super-Special Finds Did you receive a holiday gift that you didn’t end up using? If it’s something others might enjoy\, consider donating it to support Bronx Science! Every contribution — big or small — helps make our 2026 Benefit Bash a success.Exquisite WinesHave a bottle you’d be happy to part with for a great cause? The ever-popular Wine Pull is back at this year’s gala! Each donation adds a welcome touch fun and surprise to the evening. Email our Wine Pull Team to donate!One-of-a-Kind Experiences Experiences are always a hit at the auction. Ideas include restaurant meals and tastings\, trips and getaways\, tickets to events\, classes and courses\, professional services\, behind-the-scenes access\, gift cards\, or any other unique experience you’re connected to.The more donations we collect\, the greater the support we can provide for our students and programs!\n\n\n\n\n\n\n\n\n\n\n\nP.S. We are still looking for donations of flowers to serve as centerpieces for our Spring Gala!If you know anyone who has a connection to flowers or the flower industry\, please give us a shout at AuctionChair@BxSciencePA.org!Thank you for any leads (seeds?) you can provide!\n \n\n\n\n\n\n\nClick here to show your support\, or\, if you’d have ideas for a custom package\, contact us at Sponsorships@BxSciencePA.org!\n\n\n\n\n\nWays to Get Involved \n          Donate Auction Items                  Donate Cash                    Become a Sponsor                  Visit our Website                    Donate Wine                  Contact the Team
URL:https://bxsciencepa.org/event/spring-gala/
LOCATION:1 E. 65th Street\, 1 East 65th St.\, New York\, NY\, 10065\, United States
ATTACH;FMTTYPE=image/png:https://bxsciencepa.org/wp-content/uploads/2025/11/2026Gala_std.png
END:VEVENT
BEGIN:VEVENT
DTSTART;TZID=America/New_York:20260429T000000
DTEND;TZID=America/New_York:20260429T235959
DTSTAMP:20260425T074928
CREATED:20260420T015038Z
LAST-MODIFIED:20260420T015418Z
UID:29430-1777420800-1777507199@bxsciencepa.org
SUMMARY:Bronx Science College Fair
DESCRIPTION: Sign up here to help welcome visiting college representatives.
URL:https://bxsciencepa.org/event/bronx-science-college-fair/
END:VEVENT
BEGIN:VEVENT
DTSTART;TZID=America/New_York:20260501T190500
DTEND;TZID=America/New_York:20260501T230000
DTSTAMP:20260425T074928
CREATED:20260224T024518Z
LAST-MODIFIED:20260224T024522Z
UID:29376-1777662300-1777676400@bxsciencepa.org
SUMMARY:Night Out at Yankee Stadium
DESCRIPTION:Yankees vs Orioles
URL:https://bxsciencepa.org/event/night-out-at-yankee-stadium-2/
END:VEVENT
BEGIN:VEVENT
DTSTART;TZID=America/New_York:20260520T190000
DTEND;TZID=America/New_York:20260520T190000
DTSTAMP:20260425T074928
CREATED:20250910T161204Z
LAST-MODIFIED:20251106T160235Z
UID:28836-1779303600-1779303600@bxsciencepa.org
SUMMARY:May PA Meeting - Virtual
DESCRIPTION:Spring Election \n\n\n\nWe will learn about the State of Our School from Rachel Hoyle and Andrew Nasser\, followed by our Spring PA and SLT elections! \n\n\n\nThis is a REMOTE ONLY meeting and election. Registration is required.
URL:https://bxsciencepa.org/event/may-pa-meeting-virtual/
END:VEVENT
BEGIN:VEVENT
DTSTART;TZID=America/New_York:20260611T190000
DTEND;TZID=America/New_York:20260611T190000
DTSTAMP:20260425T074928
CREATED:20250910T161237Z
LAST-MODIFIED:20251117T193503Z
UID:28838-1781204400-1781204400@bxsciencepa.org
SUMMARY:June PA Meeting - In Person
DESCRIPTION:College LifeA panel of recent graduates\, shares their experiences in college\, and how Bronx Science prepared them for higher education and what surprised them most about post-high school life.
URL:https://bxsciencepa.org/event/june-pa-meeting-in-person/
END:VEVENT
END:VCALENDAR