BEGIN:VCALENDAR
VERSION:2.0
PRODID:-//Bronx High School of Science Parents Association - ECPv6.15.20//NONSGML v1.0//EN
CALSCALE:GREGORIAN
METHOD:PUBLISH
X-ORIGINAL-URL:https://bxsciencepa.org
X-WR-CALDESC:Events for Bronx High School of Science Parents Association
REFRESH-INTERVAL;VALUE=DURATION:PT1H
X-Robots-Tag:noindex
X-PUBLISHED-TTL:PT1H
BEGIN:VTIMEZONE
TZID:America/New_York
BEGIN:DAYLIGHT
TZOFFSETFROM:-0500
TZOFFSETTO:-0400
TZNAME:EDT
DTSTART:20250309T070000
END:DAYLIGHT
BEGIN:STANDARD
TZOFFSETFROM:-0400
TZOFFSETTO:-0500
TZNAME:EST
DTSTART:20251102T060000
END:STANDARD
BEGIN:DAYLIGHT
TZOFFSETFROM:-0500
TZOFFSETTO:-0400
TZNAME:EDT
DTSTART:20260308T070000
END:DAYLIGHT
BEGIN:STANDARD
TZOFFSETFROM:-0400
TZOFFSETTO:-0500
TZNAME:EST
DTSTART:20261101T060000
END:STANDARD
BEGIN:DAYLIGHT
TZOFFSETFROM:-0500
TZOFFSETTO:-0400
TZNAME:EDT
DTSTART:20270314T070000
END:DAYLIGHT
BEGIN:STANDARD
TZOFFSETFROM:-0400
TZOFFSETTO:-0500
TZNAME:EST
DTSTART:20271107T060000
END:STANDARD
END:VTIMEZONE
BEGIN:VEVENT
DTSTART;TZID=America/New_York:20260205T180000
DTEND;TZID=America/New_York:20260205T200000
DTSTAMP:20260424T145046
CREATED:20250910T160800Z
LAST-MODIFIED:20260202T182920Z
UID:28830-1770314400-1770321600@bxsciencepa.org
SUMMARY:February PA Meeting & Winter College Night - In Person
DESCRIPTION:Please join us in person for an incredible evening. We are honored to welcome Admissions Directors and Deans from Amherst College\, Barnard College\, and Case Western Reserve University\, who will share invaluable insights into the current admissions landscape. \n\n\n\nCome early at 6:00 PM for our final in-person merchandise sale of the season! You can find our draft minutes from the January meeting HERE. You can find our agenda for the February meeting HERE. \n\n\n\nVolunteers Needed: We can’t do this without you. Please SIGN UP HERE to help with the merchandise sale or hospitality. \n\n\n\n6:00 PM: Snacks & Final In-Person Merchandise Sale \n\n\n\n6:30 PM: PA Meeting \n\n\n\n7:00 PM: Dean and Directors Admissions Panel
URL:https://bxsciencepa.org/event/february-pa-meeting-in-person/
END:VEVENT
END:VCALENDAR