BEGIN:VCALENDAR
VERSION:2.0
PRODID:-//Bronx High School of Science Parents Association - ECPv6.15.20//NONSGML v1.0//EN
CALSCALE:GREGORIAN
METHOD:PUBLISH
X-WR-CALNAME:Bronx High School of Science Parents Association
X-ORIGINAL-URL:https://bxsciencepa.org
X-WR-CALDESC:Events for Bronx High School of Science Parents Association
REFRESH-INTERVAL;VALUE=DURATION:PT1H
X-Robots-Tag:noindex
X-PUBLISHED-TTL:PT1H
BEGIN:VTIMEZONE
TZID:America/New_York
BEGIN:DAYLIGHT
TZOFFSETFROM:-0500
TZOFFSETTO:-0400
TZNAME:EDT
DTSTART:20240310T070000
END:DAYLIGHT
BEGIN:STANDARD
TZOFFSETFROM:-0400
TZOFFSETTO:-0500
TZNAME:EST
DTSTART:20241103T060000
END:STANDARD
BEGIN:DAYLIGHT
TZOFFSETFROM:-0500
TZOFFSETTO:-0400
TZNAME:EDT
DTSTART:20250309T070000
END:DAYLIGHT
BEGIN:STANDARD
TZOFFSETFROM:-0400
TZOFFSETTO:-0500
TZNAME:EST
DTSTART:20251102T060000
END:STANDARD
BEGIN:DAYLIGHT
TZOFFSETFROM:-0500
TZOFFSETTO:-0400
TZNAME:EDT
DTSTART:20260308T070000
END:DAYLIGHT
BEGIN:STANDARD
TZOFFSETFROM:-0400
TZOFFSETTO:-0500
TZNAME:EST
DTSTART:20261101T060000
END:STANDARD
END:VTIMEZONE
BEGIN:VEVENT
DTSTART;TZID=America/New_York:20251016T083000
DTEND;TZID=America/New_York:20251016T083000
DTSTAMP:20260424T221446
CREATED:20250917T154110Z
LAST-MODIFIED:20250917T154114Z
UID:28874-1760603400-1760603400@bxsciencepa.org
SUMMARY:Coffee with the Principal
DESCRIPTION:Topic:  School Safety Town Hall \n\n\n\nDear Bronx Science Parents and Guardians\,  \n\n\n\nPlease join us for Coffee with the Principal\, which will be held on Thursday\, October 16th\, from 8:30-9:30 AM. \n\n\n\nPrincipal Hoyle will be joined by our School Safety Committee for its annual Town Hall Meeting. Ms. Hoyle\, Ms. Vana Loukissas\, Director of Safety and Security\, and the School Safety Committee (which includes your parent representative) will facilitate an informative discussion.  \n\n\n\nYou can submit any questions you have for our Safety Committee in advance by clicking HERE.  The deadline to submit your questions is Tuesday\, October 14th at 9:00 AM.  We will answer your questions before the end of the meeting. \n\n\n\nAfter the presentation\, there will be an opportunity to walk with school staff to see first hand the routes students should be taking to the 4 and D trains.  \n\n\n\nIf you are able to attend\, please RSVP HERE by Tuesday\, October 14th at 9:00 AM.   \n\n\n\nWe look forward to welcoming you on October 16th.
URL:https://bxsciencepa.org/event/coffee-with-the-principal-4/
END:VEVENT
BEGIN:VEVENT
DTSTART;TZID=America/New_York:20251016T183000
DTEND;TZID=America/New_York:20251016T183000
DTSTAMP:20260424T221446
CREATED:20251016T140356Z
LAST-MODIFIED:20251016T140358Z
UID:28948-1760639400-1760639400@bxsciencepa.org
SUMMARY:Fall College Night
DESCRIPTION:Fall College Night will take place on Thursday\, October 16\, at 6:30 pm in the Bronx Science auditorium. Sophomores\, Juniors\, and Seniors and their parents/guardians are encouraged to attend! There will be plenty of time for Q&A. This event will not be recorded. \n\n\n\nThe evening will consist of a conversation with Nicole Molina of Vanderbilt University. \n\n\n\nMs. Molina has broad depth of enrollment management experience in higher education. She has served as a director in admissions at Vanderbilt University\, University of Southern California\, and Barnard College. Ms. Molina will speak about the following and the role each plays in the admissions process: \n\n\n\n\nAcademic Rigor\n\n\n\nStandardized Testing\n\n\n\nEssays\n\n\n\nLetters of Recommendation\n\n\n\nAssessing the value of Extra-Curricular Activities\n\n\n\nEarly Decision/Early Action\n\n\n\nWith so many similar highly qualified applicants what makes an applicant stand out from the crowd?\n\n\n\n\nPlease see your counselor if you have any questions.
URL:https://bxsciencepa.org/event/fall-college-night/
END:VEVENT
END:VCALENDAR