BEGIN:VCALENDAR
VERSION:2.0
PRODID:-//Bronx High School of Science Parents Association - ECPv6.15.20//NONSGML v1.0//EN
CALSCALE:GREGORIAN
METHOD:PUBLISH
X-WR-CALNAME:Bronx High School of Science Parents Association
X-ORIGINAL-URL:https://bxsciencepa.org
X-WR-CALDESC:Events for Bronx High School of Science Parents Association
REFRESH-INTERVAL;VALUE=DURATION:PT1H
X-Robots-Tag:noindex
X-PUBLISHED-TTL:PT1H
BEGIN:VTIMEZONE
TZID:America/New_York
BEGIN:DAYLIGHT
TZOFFSETFROM:-0500
TZOFFSETTO:-0400
TZNAME:EDT
DTSTART:20240310T070000
END:DAYLIGHT
BEGIN:STANDARD
TZOFFSETFROM:-0400
TZOFFSETTO:-0500
TZNAME:EST
DTSTART:20241103T060000
END:STANDARD
BEGIN:DAYLIGHT
TZOFFSETFROM:-0500
TZOFFSETTO:-0400
TZNAME:EDT
DTSTART:20250309T070000
END:DAYLIGHT
BEGIN:STANDARD
TZOFFSETFROM:-0400
TZOFFSETTO:-0500
TZNAME:EST
DTSTART:20251102T060000
END:STANDARD
BEGIN:DAYLIGHT
TZOFFSETFROM:-0500
TZOFFSETTO:-0400
TZNAME:EDT
DTSTART:20260308T070000
END:DAYLIGHT
BEGIN:STANDARD
TZOFFSETFROM:-0400
TZOFFSETTO:-0500
TZNAME:EST
DTSTART:20261101T060000
END:STANDARD
END:VTIMEZONE
BEGIN:VEVENT
DTSTART;TZID=America/New_York:20250918T183000
DTEND;TZID=America/New_York:20250918T183000
DTSTAMP:20260424T235427
CREATED:20250903T183230Z
LAST-MODIFIED:20251105T204538Z
UID:28765-1758220200-1758220200@bxsciencepa.org
SUMMARY:September PA Meeting - In Person
DESCRIPTION:Our first PA meeting will be held in person at Bronx Science\, and we invite you to come meet the administration and connect with other parents. Please join us for dinner at 6:30 PM prior to the meeting. Following regular business at this first meeting\, we will break out into meaningful sessions covering topics of importance by grade.
URL:https://bxsciencepa.org/event/september-pa-meeting-in-person/
LOCATION:Bronx High School of Science\, 75 Bronx Science Blvd.\, Bronx\, New York\, 10468\, United States
ATTACH;FMTTYPE=image/jpeg:https://bxsciencepa.org/wp-content/uploads/2024/10/audience-sitting-in-chairs-11329860-scaled.jpg
END:VEVENT
END:VCALENDAR