BEGIN:VCALENDAR
VERSION:2.0
PRODID:-//Bronx High School of Science Parents Association - ECPv6.15.20//NONSGML v1.0//EN
CALSCALE:GREGORIAN
METHOD:PUBLISH
X-WR-CALNAME:Bronx High School of Science Parents Association
X-ORIGINAL-URL:https://bxsciencepa.org
X-WR-CALDESC:Events for Bronx High School of Science Parents Association
REFRESH-INTERVAL;VALUE=DURATION:PT1H
X-Robots-Tag:noindex
X-PUBLISHED-TTL:PT1H
BEGIN:VTIMEZONE
TZID:America/New_York
BEGIN:DAYLIGHT
TZOFFSETFROM:-0500
TZOFFSETTO:-0400
TZNAME:EDT
DTSTART:20240310T070000
END:DAYLIGHT
BEGIN:STANDARD
TZOFFSETFROM:-0400
TZOFFSETTO:-0500
TZNAME:EST
DTSTART:20241103T060000
END:STANDARD
BEGIN:DAYLIGHT
TZOFFSETFROM:-0500
TZOFFSETTO:-0400
TZNAME:EDT
DTSTART:20250309T070000
END:DAYLIGHT
BEGIN:STANDARD
TZOFFSETFROM:-0400
TZOFFSETTO:-0500
TZNAME:EST
DTSTART:20251102T060000
END:STANDARD
BEGIN:DAYLIGHT
TZOFFSETFROM:-0500
TZOFFSETTO:-0400
TZNAME:EDT
DTSTART:20260308T070000
END:DAYLIGHT
BEGIN:STANDARD
TZOFFSETFROM:-0400
TZOFFSETTO:-0500
TZNAME:EST
DTSTART:20261101T060000
END:STANDARD
END:VTIMEZONE
BEGIN:VEVENT
DTSTART;TZID=America/New_York:20250520T083000
DTEND;TZID=America/New_York:20250520T093000
DTSTAMP:20260425T070755
CREATED:20250506T140852Z
LAST-MODIFIED:20250506T140855Z
UID:28600-1747729800-1747733400@bxsciencepa.org
SUMMARY:Coffee with the Principal
DESCRIPTION:Principal Hoyle will be joined by Assistant Principal Andrew Nasser to present the State of the School. After the presentation\, interested parents/guardians will have the opportunity to visit our school’s planetarium.  \n\n\n\nIf you are able to attend\, please RSVP HERE by Monday May 19th at 9:00 AM.  
URL:https://bxsciencepa.org/event/coffee-with-the-principal-3/
END:VEVENT
END:VCALENDAR