BEGIN:VCALENDAR
VERSION:2.0
PRODID:-//Bronx High School of Science Parents Association - ECPv6.15.20//NONSGML v1.0//EN
CALSCALE:GREGORIAN
METHOD:PUBLISH
X-WR-CALNAME:Bronx High School of Science Parents Association
X-ORIGINAL-URL:https://bxsciencepa.org
X-WR-CALDESC:Events for Bronx High School of Science Parents Association
REFRESH-INTERVAL;VALUE=DURATION:PT1H
X-Robots-Tag:noindex
X-PUBLISHED-TTL:PT1H
BEGIN:VTIMEZONE
TZID:America/New_York
BEGIN:DAYLIGHT
TZOFFSETFROM:-0500
TZOFFSETTO:-0400
TZNAME:EDT
DTSTART:20240310T070000
END:DAYLIGHT
BEGIN:STANDARD
TZOFFSETFROM:-0400
TZOFFSETTO:-0500
TZNAME:EST
DTSTART:20241103T060000
END:STANDARD
BEGIN:DAYLIGHT
TZOFFSETFROM:-0500
TZOFFSETTO:-0400
TZNAME:EDT
DTSTART:20250309T070000
END:DAYLIGHT
BEGIN:STANDARD
TZOFFSETFROM:-0400
TZOFFSETTO:-0500
TZNAME:EST
DTSTART:20251102T060000
END:STANDARD
BEGIN:DAYLIGHT
TZOFFSETFROM:-0500
TZOFFSETTO:-0400
TZNAME:EDT
DTSTART:20260308T070000
END:DAYLIGHT
BEGIN:STANDARD
TZOFFSETFROM:-0400
TZOFFSETTO:-0500
TZNAME:EST
DTSTART:20261101T060000
END:STANDARD
END:VTIMEZONE
BEGIN:VEVENT
DTSTART;TZID=America/New_York:20250310T083000
DTEND;TZID=America/New_York:20250310T093000
DTSTAMP:20260425T102831
CREATED:20250303T185306Z
LAST-MODIFIED:20250303T185733Z
UID:28424-1741595400-1741599000@bxsciencepa.org
SUMMARY:Coffee with the Principal
DESCRIPTION:The next Coffee with the Principal is Monday\, March 10 at 8:30 AM. Principal Rachel Hoyle will discuss the summer opportunities available at Bronx Science and will be joined by a panel of students. If you are able to attend\, please RSVP by Friday\, March 7 at 9:00 AM HERE.
URL:https://bxsciencepa.org/event/coffee-with-the-principal-2/
END:VEVENT
END:VCALENDAR