BEGIN:VCALENDAR
VERSION:2.0
PRODID:-//Bronx High School of Science Parents Association - ECPv6.15.20//NONSGML v1.0//EN
CALSCALE:GREGORIAN
METHOD:PUBLISH
X-ORIGINAL-URL:https://bxsciencepa.org
X-WR-CALDESC:Events for Bronx High School of Science Parents Association
REFRESH-INTERVAL;VALUE=DURATION:PT1H
X-Robots-Tag:noindex
X-PUBLISHED-TTL:PT1H
BEGIN:VTIMEZONE
TZID:America/New_York
BEGIN:DAYLIGHT
TZOFFSETFROM:-0500
TZOFFSETTO:-0400
TZNAME:EDT
DTSTART:20240310T070000
END:DAYLIGHT
BEGIN:STANDARD
TZOFFSETFROM:-0400
TZOFFSETTO:-0500
TZNAME:EST
DTSTART:20241103T060000
END:STANDARD
BEGIN:DAYLIGHT
TZOFFSETFROM:-0500
TZOFFSETTO:-0400
TZNAME:EDT
DTSTART:20250309T070000
END:DAYLIGHT
BEGIN:STANDARD
TZOFFSETFROM:-0400
TZOFFSETTO:-0500
TZNAME:EST
DTSTART:20251102T060000
END:STANDARD
BEGIN:DAYLIGHT
TZOFFSETFROM:-0500
TZOFFSETTO:-0400
TZNAME:EDT
DTSTART:20260308T070000
END:DAYLIGHT
BEGIN:STANDARD
TZOFFSETFROM:-0400
TZOFFSETTO:-0500
TZNAME:EST
DTSTART:20261101T060000
END:STANDARD
END:VTIMEZONE
BEGIN:VEVENT
DTSTART;TZID=America/New_York:20250213T190000
DTEND;TZID=America/New_York:20250213T203000
DTSTAMP:20260425T120841
CREATED:20250121T220958Z
LAST-MODIFIED:20250401T154311Z
UID:28017-1739473200-1739478600@bxsciencepa.org
SUMMARY:February PA Meeting - Virtual only
DESCRIPTION:Our next PA meeting will be held on Thursday\, February 13 at 7:00 PM VIRTUALLY (log on via this LINK). The PA meeting will feature two simultaneous presentations: \n\n\n\n●    Course Selection: Dr. Allison Davis and Mr. Andrew Nasser will reprise their course selection presentation presented earlier this year. This information will also be given to 9th and 10th graders in their advisory sessions. \n\n\n\n●    What I Wish I Knew Before My Kid Went to College: A panel of parents of alumni will share their insights\, moderated by former Bronx Science PA President and alum Cliff Stanton\, ’81. This presentation is for senior families and those who are already comfortable with the course registration process. It promises to be another engaging and heartfelt conversation and we encourage you to join our fabulous lineup of former BxSci parents for this special event! \n\n\n\nPlease click HERE for the agenda for the meeting. The minutes of the January 16\, 2025\, PA meeting can be found on the PA website and will be voted on at our February meeting. \n\n\n\nThis is a REMOTE ONLY meeting.
URL:https://bxsciencepa.org/event/february-2025-pa-meeting-virtual-only/
CATEGORIES:2024-2025 PA Meetings
ATTACH;FMTTYPE=image/jpeg:https://bxsciencepa.org/wp-content/uploads/2025/01/a-magnifying-glass-focusing-on-mathematical-equations-in-a-textbook-symbolizing-detailed-study.-4494641-scaled.jpg
END:VEVENT
END:VCALENDAR